Package: methylumi Version: 2.57.0 Command: /home/biocbuild/bbs-3.23-bioc/R/bin/R CMD build --keep-empty-dirs --no-resave-data methylumi StartedAt: 2025-11-13 18:36:29 -0500 (Thu, 13 Nov 2025) EndedAt: 2025-11-13 18:39:31 -0500 (Thu, 13 Nov 2025) EllapsedTime: 182.2 seconds RetCode: 0 Status: OK PackageFile: methylumi_2.57.0.tar.gz PackageFileSize: 7.347 MiB