Package: methylumi Version: 2.57.0 Command: /Library/Frameworks/R.framework/Resources/bin/R CMD build --keep-empty-dirs --no-resave-data methylumi StartedAt: 2025-11-13 16:59:12 -0500 (Thu, 13 Nov 2025) EndedAt: 2025-11-13 17:00:50 -0500 (Thu, 13 Nov 2025) EllapsedTime: 98.2 seconds RetCode: 0 Status: OK PackageFile: methylumi_2.57.0.tar.gz PackageFileSize: 7.345 MiB