Package: methylumi Version: 2.57.0 Command: rm -rf methylumi.buildbin-libdir && mkdir methylumi.buildbin-libdir && /Users/biocbuild/BBS/utils/build-universal.sh methylumi_2.57.0.tar.gz /Library/Frameworks/R.framework/Resources/bin/R methylumi.buildbin-libdir StartedAt: 2025-11-13 23:45:09 -0500 (Thu, 13 Nov 2025) EndedAt: 2025-11-13 23:45:38 -0500 (Thu, 13 Nov 2025) EllapsedTime: 28.6 seconds RetCode: 0 Status: OK PackageFile: methylumi_2.57.0.tgz PackageFileSize: 8.411 MiB