Package: methylumi Version: 2.57.0 Maintainer: Sean Davis MaintainerEmail: seandavi at gmail.com git_url: https://git.bioconductor.org/packages/methylumi git_branch: devel git_last_commit: dcf4f3c git_last_commit_date: 2025-10-29 10:02:53 -0500 (Wed, 29 Oct 2025)