Package: methylclock Version: 1.17.0 Command: /home/biocbuild/bbs-3.23-bioc/R/bin/R CMD build --keep-empty-dirs --no-resave-data methylclock StartedAt: 2025-11-11 18:37:48 -0500 (Tue, 11 Nov 2025) EndedAt: 2025-11-11 18:46:46 -0500 (Tue, 11 Nov 2025) EllapsedTime: 537.7 seconds RetCode: 0 Status: OK PackageFile: methylclock_1.17.0.tar.gz PackageFileSize: 1.118 MiB