Package: methylclock Version: 1.17.0 Command: /Library/Frameworks/R.framework/Resources/bin/R CMD INSTALL methylclock StartedAt: 2025-11-12 15:42:52 -0500 (Wed, 12 Nov 2025) EndedAt: 2025-11-12 15:42:53 -0500 (Wed, 12 Nov 2025) EllapsedTime: 1.1 seconds RetCode: 1 Status: ERROR