############################################################################## ############################################################################## ### ### Running command: ### ### /Library/Frameworks/R.framework/Resources/bin/R CMD build --keep-empty-dirs --no-resave-data methylclock ### ############################################################################## ############################################################################## * checking for file ‘methylclock/DESCRIPTION’ ... OK * preparing ‘methylclock’: * checking DESCRIPTION meta-information ... OK * cleaning src * installing the package (it is needed to build vignettes) ----------------------------------- ERROR: dependency ‘minfi’ is not available for package ‘methylclock’ Perhaps try a variation of: install.packages('minfi') * removing ‘/private/var/folders/r0/l4fjk6cj5xj0j3brt4bplpl40000gt/T/Rtmpoa2zz4/Rinst7c6c3f619a/methylclock’ ----------------------------------- ERROR: package installation failed