Package: methylclock Version: 1.17.0 Maintainer: Dolors Pelegri-Siso MaintainerEmail: dolors.pelegri at isglobal.org git_url: https://git.bioconductor.org/packages/methylclock git_branch: devel git_last_commit: 33c0153 git_last_commit_date: 2025-10-29 11:10:33 -0500 (Wed, 29 Oct 2025)