Package: methylPipe Version: 1.45.0 Command: /home/biocbuild/bbs-3.23-bioc/R/bin/R CMD build --keep-empty-dirs --no-resave-data methylPipe StartedAt: 2025-11-13 18:35:37 -0500 (Thu, 13 Nov 2025) EndedAt: 2025-11-13 18:38:03 -0500 (Thu, 13 Nov 2025) EllapsedTime: 146.1 seconds RetCode: 0 Status: OK PackageFile: methylPipe_1.45.0.tar.gz PackageFileSize: 793.2 KiB