Package: methylPipe Version: 1.45.0 Command: /Library/Frameworks/R.framework/Resources/bin/R CMD INSTALL methylPipe StartedAt: 2025-11-13 15:26:19 -0500 (Thu, 13 Nov 2025) EndedAt: 2025-11-13 15:26:42 -0500 (Thu, 13 Nov 2025) EllapsedTime: 23.0 seconds RetCode: 0 Status: OK