Package: methylPipe Version: 1.45.0 Command: rm -rf methylPipe.buildbin-libdir && mkdir methylPipe.buildbin-libdir && /Users/biocbuild/BBS/utils/build-universal.sh methylPipe_1.45.0.tar.gz /Library/Frameworks/R.framework/Resources/bin/R methylPipe.buildbin-libdir StartedAt: 2025-11-13 23:45:01 -0500 (Thu, 13 Nov 2025) EndedAt: 2025-11-13 23:45:30 -0500 (Thu, 13 Nov 2025) EllapsedTime: 28.6 seconds RetCode: 0 Status: OK PackageFile: methylPipe_1.45.0.tgz PackageFileSize: 1.486 MiB