Package: methylMnM Version: 1.49.0 Command: /Library/Frameworks/R.framework/Resources/bin/R CMD build --keep-empty-dirs --no-resave-data methylMnM StartedAt: 2025-11-21 16:54:46 -0500 (Fri, 21 Nov 2025) EndedAt: 2025-11-21 16:55:21 -0500 (Fri, 21 Nov 2025) EllapsedTime: 35.4 seconds RetCode: 0 Status: OK PackageFile: methylMnM_1.49.0.tar.gz PackageFileSize: 8.51 MiB