Package: methylKit Version: 1.37.0 Command: /home/biocbuild/bbs-3.23-bioc/R/bin/R CMD build --keep-empty-dirs --no-resave-data methylKit StartedAt: 2025-11-11 18:39:01 -0500 (Tue, 11 Nov 2025) EndedAt: 2025-11-11 18:40:26 -0500 (Tue, 11 Nov 2025) EllapsedTime: 85.1 seconds RetCode: 0 Status: OK PackageFile: methylKit_1.37.0.tar.gz PackageFileSize: 1.339 MiB