Package: methylKit Version: 1.37.0 Command: /Library/Frameworks/R.framework/Resources/bin/R CMD INSTALL methylKit StartedAt: 2025-11-13 15:16:26 -0500 (Thu, 13 Nov 2025) EndedAt: 2025-11-13 15:16:48 -0500 (Thu, 13 Nov 2025) EllapsedTime: 22.1 seconds RetCode: 0 Status: OK