Package: methylKit Version: 1.37.0 Command: rm -rf methylKit.buildbin-libdir && mkdir methylKit.buildbin-libdir && /Users/biocbuild/BBS/utils/build-universal.sh methylKit_1.37.0.tar.gz /Library/Frameworks/R.framework/Resources/bin/R methylKit.buildbin-libdir StartedAt: 2025-11-12 21:02:26 -0500 (Wed, 12 Nov 2025) EndedAt: 2025-11-12 21:02:55 -0500 (Wed, 12 Nov 2025) EllapsedTime: 28.5 seconds RetCode: 0 Status: OK PackageFile: methylKit_1.37.0.tgz PackageFileSize: 2.952 MiB