Package: methylKit Version: 1.37.0 Maintainer: Altuna Akalin , Alexander Blume MaintainerEmail: alex.gos90 at gmail.com git_url: https://git.bioconductor.org/packages/methylKit git_branch: devel git_last_commit: 1192e2b git_last_commit_date: 2025-10-29 10:33:14 -0500 (Wed, 29 Oct 2025)