Package: methylInheritance Version: 1.35.0 Command: /home/biocbuild/bbs-3.23-bioc/R/bin/R CMD INSTALL methylInheritance StartedAt: 2025-11-13 15:28:44 -0500 (Thu, 13 Nov 2025) EndedAt: 2025-11-13 15:29:22 -0500 (Thu, 13 Nov 2025) EllapsedTime: 38.3 seconds RetCode: 0 Status: OK