Package: methylInheritance Version: 1.35.0 Command: /Library/Frameworks/R.framework/Resources/bin/R CMD INSTALL methylInheritance StartedAt: 2025-11-14 15:17:38 -0500 (Fri, 14 Nov 2025) EndedAt: 2025-11-14 15:17:53 -0500 (Fri, 14 Nov 2025) EllapsedTime: 15.9 seconds RetCode: 0 Status: OK