Package: methylInheritance Version: 1.35.0 Command: /Library/Frameworks/R.framework/Resources/bin/R CMD build --keep-empty-dirs --no-resave-data methylInheritance StartedAt: 2025-11-13 16:58:04 -0500 (Thu, 13 Nov 2025) EndedAt: 2025-11-13 16:58:39 -0500 (Thu, 13 Nov 2025) EllapsedTime: 35.4 seconds RetCode: 0 Status: OK PackageFile: methylInheritance_1.35.0.tar.gz PackageFileSize: 1.708 MiB