Package: methylInheritance Version: 1.35.0 Command: rm -rf methylInheritance.buildbin-libdir && mkdir methylInheritance.buildbin-libdir && /Users/biocbuild/BBS/utils/build-universal.sh methylInheritance_1.35.0.tar.gz /Library/Frameworks/R.framework/Resources/bin/R methylInheritance.buildbin-libdir StartedAt: 2025-11-12 21:02:25 -0500 (Wed, 12 Nov 2025) EndedAt: 2025-11-12 21:02:45 -0500 (Wed, 12 Nov 2025) EllapsedTime: 20.3 seconds RetCode: 0 Status: OK PackageFile: methylInheritance_1.35.0.tgz PackageFileSize: 1.828 MiB