Package: methylGSA Version: 1.29.0 Command: /home/biocbuild/bbs-3.23-bioc/R/bin/R CMD INSTALL methylGSA StartedAt: 2025-11-16 16:05:43 -0500 (Sun, 16 Nov 2025) EndedAt: 2025-11-16 16:06:28 -0500 (Sun, 16 Nov 2025) EllapsedTime: 45.2 seconds RetCode: 0 Status: OK