Package: methylGSA Version: 1.29.0 Command: /Library/Frameworks/R.framework/Resources/bin/R CMD INSTALL methylGSA StartedAt: 2025-11-14 15:34:18 -0500 (Fri, 14 Nov 2025) EndedAt: 2025-11-14 15:34:35 -0500 (Fri, 14 Nov 2025) EllapsedTime: 16.8 seconds RetCode: 0 Status: OK