Package: methylGSA Version: 1.29.0 Command: /Library/Frameworks/R.framework/Resources/bin/R CMD build --keep-empty-dirs --no-resave-data methylGSA StartedAt: 2025-11-14 16:54:49 -0500 (Fri, 14 Nov 2025) EndedAt: 2025-11-14 16:55:43 -0500 (Fri, 14 Nov 2025) EllapsedTime: 54.6 seconds RetCode: 0 Status: OK PackageFile: methylGSA_1.29.0.tar.gz PackageFileSize: 3.151 MiB