Package: methylGSA Version: 1.29.0 Maintainer: Xu Ren MaintainerEmail: xuren2120 at gmail.com git_url: https://git.bioconductor.org/packages/methylGSA git_branch: devel git_last_commit: 2bc09f0 git_last_commit_date: 2025-10-29 10:46:15 -0500 (Wed, 29 Oct 2025)