############################################################################## ############################################################################## ### ### Running command: ### ### /Library/Frameworks/R.framework/Resources/bin/R CMD INSTALL methylCC ### ############################################################################## ############################################################################## * installing to library ‘/Library/Frameworks/R.framework/Versions/4.6-arm64/Resources/library’ * installing *source* package ‘methylCC’ ... ** this is package ‘methylCC’ version ‘1.25.0’ ** using staged installation ** R ** data ** inst ** byte-compile and prepare package for lazy loading Error: object ‘arrange’ is not exported by 'namespace:plyranges' Execution halted ERROR: lazy loading failed for package ‘methylCC’ * removing ‘/Library/Frameworks/R.framework/Versions/4.6-arm64/Resources/library/methylCC’