Package: methyLImp2 Version: 1.7.1 Command: /home/biocbuild/bbs-3.23-bioc/R/bin/R CMD INSTALL methyLImp2 StartedAt: 2025-11-14 15:32:09 -0500 (Fri, 14 Nov 2025) EndedAt: 2025-11-14 15:32:29 -0500 (Fri, 14 Nov 2025) EllapsedTime: 20.3 seconds RetCode: 0 Status: OK