Package: methyLImp2 Version: 1.7.1 Command: /Library/Frameworks/R.framework/Resources/bin/R CMD build --keep-empty-dirs --no-resave-data methyLImp2 StartedAt: 2025-11-13 16:57:55 -0500 (Thu, 13 Nov 2025) EndedAt: 2025-11-13 16:58:18 -0500 (Thu, 13 Nov 2025) EllapsedTime: 23.3 seconds RetCode: 0 Status: OK PackageFile: methyLImp2_1.7.1.tar.gz PackageFileSize: 1.26 MiB