Package: methyLImp2 Version: 1.7.1 Command: rm -rf methyLImp2.buildbin-libdir && mkdir methyLImp2.buildbin-libdir && /Users/biocbuild/BBS/utils/build-universal.sh methyLImp2_1.7.1.tar.gz /Library/Frameworks/R.framework/Resources/bin/R methyLImp2.buildbin-libdir StartedAt: 2025-11-13 23:44:55 -0500 (Thu, 13 Nov 2025) EndedAt: 2025-11-13 23:45:06 -0500 (Thu, 13 Nov 2025) EllapsedTime: 11.2 seconds RetCode: 0 Status: OK PackageFile: methyLImp2_1.7.1.tgz PackageFileSize: 1.283 MiB