Package: methyLImp2 Version: 1.7.1 Maintainer: Anna Plaksienko MaintainerEmail: anna at plaxienko.com git_url: https://git.bioconductor.org/packages/methyLImp2 git_branch: devel git_last_commit: 579f07b git_last_commit_date: 2025-11-12 12:27:08 -0500 (Wed, 12 Nov 2025)