Package: methrix Version: 1.25.0 Command: /home/biocbuild/bbs-3.23-bioc/R/bin/R CMD INSTALL methrix StartedAt: 2025-11-13 15:36:14 -0500 (Thu, 13 Nov 2025) EndedAt: 2025-11-13 15:36:56 -0500 (Thu, 13 Nov 2025) EllapsedTime: 42.0 seconds RetCode: 0 Status: OK