Package: methrix Version: 1.25.0 Command: /Library/Frameworks/R.framework/Resources/bin/R CMD INSTALL methrix StartedAt: 2025-11-12 15:35:09 -0500 (Wed, 12 Nov 2025) EndedAt: 2025-11-12 15:35:10 -0500 (Wed, 12 Nov 2025) EllapsedTime: 1.6 seconds RetCode: 1 Status: ERROR