Package: methrix Version: 1.25.0 Command: /Library/Frameworks/R.framework/Resources/bin/R CMD build --keep-empty-dirs --no-resave-data methrix StartedAt: 2025-11-13 16:57:33 -0500 (Thu, 13 Nov 2025) EndedAt: 2025-11-13 16:59:20 -0500 (Thu, 13 Nov 2025) EllapsedTime: 106.2 seconds RetCode: 0 Status: OK PackageFile: methrix_1.25.0.tar.gz PackageFileSize: 4.077 MiB