Package: methodical Version: 1.7.0 Command: /home/biocbuild/bbs-3.23-bioc/R/bin/R CMD INSTALL methodical StartedAt: 2025-11-11 15:47:08 -0500 (Tue, 11 Nov 2025) EndedAt: 2025-11-11 15:47:51 -0500 (Tue, 11 Nov 2025) EllapsedTime: 42.7 seconds RetCode: 0 Status: OK