Package: methodical Version: 1.7.0 Command: /home/biocbuild/bbs-3.23-bioc/R/bin/R CMD build --keep-empty-dirs --no-resave-data methodical StartedAt: 2025-11-13 18:32:18 -0500 (Thu, 13 Nov 2025) EndedAt: 2025-11-13 18:46:51 -0500 (Thu, 13 Nov 2025) EllapsedTime: 872.8 seconds RetCode: 0 Status: OK PackageFile: methodical_1.7.0.tar.gz PackageFileSize: 5.025 MiB