Package: methodical Version: 1.7.0 Command: /Library/Frameworks/R.framework/Resources/bin/R CMD INSTALL methodical StartedAt: 2025-11-14 15:22:33 -0500 (Fri, 14 Nov 2025) EndedAt: 2025-11-14 15:22:50 -0500 (Fri, 14 Nov 2025) EllapsedTime: 17.1 seconds RetCode: 0 Status: OK