Package: methodical Version: 1.7.0 Command: /Library/Frameworks/R.framework/Resources/bin/R CMD build --keep-empty-dirs --no-resave-data methodical StartedAt: 2025-11-14 16:53:55 -0500 (Fri, 14 Nov 2025) EndedAt: 2025-11-14 17:00:16 -0500 (Fri, 14 Nov 2025) EllapsedTime: 381.3 seconds RetCode: 0 Status: OK PackageFile: methodical_1.7.0.tar.gz PackageFileSize: 5.025 MiB