Package: methodical Version: 1.7.0 Command: rm -rf methodical.buildbin-libdir && mkdir methodical.buildbin-libdir && /Users/biocbuild/BBS/utils/build-universal.sh methodical_1.7.0.tar.gz /Library/Frameworks/R.framework/Resources/bin/R methodical.buildbin-libdir StartedAt: 2025-11-13 23:44:45 -0500 (Thu, 13 Nov 2025) EndedAt: 2025-11-13 23:45:00 -0500 (Thu, 13 Nov 2025) EllapsedTime: 15.3 seconds RetCode: 0 Status: OK PackageFile: methodical_1.7.0.tgz PackageFileSize: 5.011 MiB