Package: methimpute Version: 1.33.0 Command: /Library/Frameworks/R.framework/Resources/bin/R CMD INSTALL methimpute StartedAt: 2025-11-14 15:11:07 -0500 (Fri, 14 Nov 2025) EndedAt: 2025-11-14 15:11:20 -0500 (Fri, 14 Nov 2025) EllapsedTime: 12.9 seconds RetCode: 0 Status: OK