Package: methInheritSim Version: 1.33.0 Command: /home/biocbuild/bbs-3.23-bioc/R/bin/R CMD INSTALL methInheritSim StartedAt: 2025-11-13 15:29:13 -0500 (Thu, 13 Nov 2025) EndedAt: 2025-11-13 15:29:51 -0500 (Thu, 13 Nov 2025) EllapsedTime: 38.4 seconds RetCode: 0 Status: OK