Package: metaseqR2 Version: 1.23.0 Command: /home/biocbuild/bbs-3.23-bioc/R/bin/R CMD INSTALL metaseqR2 StartedAt: 2025-11-14 15:53:31 -0500 (Fri, 14 Nov 2025) EndedAt: 2025-11-14 15:54:46 -0500 (Fri, 14 Nov 2025) EllapsedTime: 74.8 seconds RetCode: 0 Status: OK