Package: metaseqR2 Version: 1.23.0 Command: /home/biocbuild/bbs-3.23-bioc/R/bin/R CMD build --keep-empty-dirs --no-resave-data metaseqR2 StartedAt: 2025-11-14 18:32:18 -0500 (Fri, 14 Nov 2025) EndedAt: 2025-11-14 18:39:23 -0500 (Fri, 14 Nov 2025) EllapsedTime: 425.3 seconds RetCode: 1 Status: ERROR PackageFile: None PackageFileSize: NA