Package: metaseqR2 Version: 1.23.0 Command: /Library/Frameworks/R.framework/Resources/bin/R CMD INSTALL metaseqR2 StartedAt: 2025-11-12 15:40:24 -0500 (Wed, 12 Nov 2025) EndedAt: 2025-11-12 15:40:25 -0500 (Wed, 12 Nov 2025) EllapsedTime: 1.0 seconds RetCode: 1 Status: ERROR