Package: metaseqR2 Version: 1.23.0 Maintainer: Panagiotis Moulos MaintainerEmail: moulos at fleming.gr git_url: https://git.bioconductor.org/packages/metaseqR2 git_branch: devel git_last_commit: 25b9df1 git_last_commit_date: 2025-10-29 10:59:18 -0500 (Wed, 29 Oct 2025)