Package: metabomxtr Version: 1.45.0 Command: /home/biocbuild/bbs-3.23-bioc/R/bin/R CMD INSTALL metabomxtr StartedAt: 2025-11-13 15:12:15 -0500 (Thu, 13 Nov 2025) EndedAt: 2025-11-13 15:12:25 -0500 (Thu, 13 Nov 2025) EllapsedTime: 9.9 seconds RetCode: 0 Status: OK