Package: metabomxtr Version: 1.45.0 Command: /home/biocbuild/bbs-3.23-bioc/R/bin/R CMD check --install=check:metabomxtr.install-out.txt --library=/home/biocbuild/bbs-3.23-bioc/R/site-library --timings metabomxtr_1.45.0.tar.gz StartedAt: 2025-11-24 01:07:39 -0500 (Mon, 24 Nov 2025) EndedAt: 2025-11-24 01:09:22 -0500 (Mon, 24 Nov 2025) EllapsedTime: 103.2 seconds RetCode: 0 Status: OK CheckDir: metabomxtr.Rcheck Warnings: 0