Package: metabomxtr Version: 1.45.0 Command: /Library/Frameworks/R.framework/Resources/bin/R CMD INSTALL metabomxtr StartedAt: 2025-11-13 15:06:46 -0500 (Thu, 13 Nov 2025) EndedAt: 2025-11-13 15:06:50 -0500 (Thu, 13 Nov 2025) EllapsedTime: 3.8 seconds RetCode: 0 Status: OK