Package: metabomxtr Version: 1.45.0 Command: /Library/Frameworks/R.framework/Resources/bin/R CMD build --keep-empty-dirs --no-resave-data metabomxtr StartedAt: 2025-11-13 16:55:55 -0500 (Thu, 13 Nov 2025) EndedAt: 2025-11-13 16:56:08 -0500 (Thu, 13 Nov 2025) EllapsedTime: 13.2 seconds RetCode: 0 Status: OK PackageFile: metabomxtr_1.45.0.tar.gz PackageFileSize: 559.3 KiB