Package: metabomxtr Version: 1.45.0 Command: rm -rf metabomxtr.buildbin-libdir && mkdir metabomxtr.buildbin-libdir && /Users/biocbuild/BBS/utils/build-universal.sh metabomxtr_1.45.0.tar.gz /Library/Frameworks/R.framework/Resources/bin/R metabomxtr.buildbin-libdir StartedAt: 2025-11-13 23:44:31 -0500 (Thu, 13 Nov 2025) EndedAt: 2025-11-13 23:44:37 -0500 (Thu, 13 Nov 2025) EllapsedTime: 6.2 seconds RetCode: 0 Status: OK PackageFile: metabomxtr_1.45.0.tgz PackageFileSize: 652 KiB