Package: metabomxtr Version: 1.45.0 Maintainer: Michael Nodzenski MaintainerEmail: michael.nodzenski at gmail.com git_url: https://git.bioconductor.org/packages/metabomxtr git_branch: devel git_last_commit: 832ac4e git_last_commit_date: 2025-10-29 10:20:39 -0500 (Wed, 29 Oct 2025)