Package: metabolomicsWorkbenchR Version: 1.21.0 Command: /home/biocbuild/bbs-3.23-bioc/R/bin/R CMD INSTALL metabolomicsWorkbenchR StartedAt: 2025-11-14 15:32:54 -0500 (Fri, 14 Nov 2025) EndedAt: 2025-11-14 15:33:22 -0500 (Fri, 14 Nov 2025) EllapsedTime: 28.2 seconds RetCode: 0 Status: OK